BEGIN:VCALENDAR
CALSCALE:GREGORIAN
PRODID:-//Ben Fortuna//iCal4j 1.0//EN
VERSION:2.0
BEGIN:VEVENT
DTSTAMP:20260125T060514Z
DTSTART:20260130T103000
DTEND:20260130T123000
SUMMARY:Budget Presentation\n\nEmily Hawes\, Commissioner\, Department of
  Mental Health\n\nSamantha Sweet\, Deputy Commissioner\, Department of M
 ental Health - Room 42
TZID:America/New_York
UID:20260125T062036Z-uidGen@richgoldman-357e73
END:VEVENT
BEGIN:VALARM
TRIGGER:-PT15M
ACTION:DISPLAY
DESCRIPTION:Budget Presentation\n\nEmily Hawes\, Commissioner\, Departmen
 t of Mental Health\n\nSamantha Sweet\, Deputy Commissioner\, Department 
 of Mental Health - Room 42
END:VALARM
END:VCALENDAR
