BEGIN:VCALENDAR
CALSCALE:GREGORIAN
PRODID:-//Ben Fortuna//iCal4j 1.0//EN
VERSION:2.0
BEGIN:VEVENT
DTSTAMP:20260127T170014Z
DTSTART:20260130T103000
DTEND:20260130T123000
SUMMARY:Governor's Proposed FY2027 Budget\n\nDepartment of Mental Health\
 n\nEmily Hawes\, Commissioner\, Department of Mental Health\n\nSamantha 
 Sweet\, Deputy Commissioner\, Department of Mental Health - Room 42
TZID:America/New_York
UID:20260127T170123Z-uidGen@richgoldman-357e73
END:VEVENT
BEGIN:VALARM
TRIGGER:-PT15M
ACTION:DISPLAY
DESCRIPTION:Governor's Proposed FY2027 Budget\n\nDepartment of Mental Hea
 lth\n\nEmily Hawes\, Commissioner\, Department of Mental Health\n\nSaman
 tha Sweet\, Deputy Commissioner\, Department of Mental Health - Room 42
END:VALARM
END:VCALENDAR
