BEGIN:VCALENDAR
CALSCALE:GREGORIAN
PRODID:-//Ben Fortuna//iCal4j 1.0//EN
VERSION:2.0
BEGIN:VEVENT
DTSTAMP:20260125T210243Z
DTSTART:20260130T101500
DTEND:20260130T121500
SUMMARY:H. 545 - An act relating to issuing immunization recommendations\
 n\nWalkthrough\n\nKatie McLinn\, Legislative Counsel\, Office of Legisla
 tive Counsel\n\nStephanie Winters\, Deputy Executive Director\, Vermont 
 Medical Society & Vermont Psychiatric Association\n\nTracy Tyson\, Presi
 dent-Elect\, American Academy of Pediatrics\, Vermont Chapter\n\nDr. Ric
 k Hildebrant\, MD\, Commissioner\, Department of Health - Invited\n\nMer
 ideth Plumpton\, Immunization Program Manager\, Department of Health\n\n
 Lauren Layman\, General Counsel\, Department of Health - Room 17
TZID:America/New_York
UID:20260125T210249Z-uidGen@richgoldman-357e73
END:VEVENT
BEGIN:VALARM
TRIGGER:-PT15M
ACTION:DISPLAY
DESCRIPTION:H. 545 - An act relating to issuing immunization recommendati
 ons\n\nWalkthrough\n\nKatie McLinn\, Legislative Counsel\, Office of Leg
 islative Counsel\n\nStephanie Winters\, Deputy Executive Director\, Verm
 ont Medical Society & Vermont Psychiatric Association\n\nTracy Tyson\, P
 resident-Elect\, American Academy of Pediatrics\, Vermont Chapter\n\nDr.
  Rick Hildebrant\, MD\, Commissioner\, Department of Health - Invited\n\
 nMerideth Plumpton\, Immunization Program Manager\, Department of Health
 \n\nLauren Layman\, General Counsel\, Department of Health - Room 17
END:VALARM
END:VCALENDAR
