BEGIN:VCALENDAR
CALSCALE:GREGORIAN
PRODID:-//Ben Fortuna//iCal4j 1.0//EN
VERSION:2.0
BEGIN:VEVENT
DTSTAMP:20260128T190014Z
DTSTART:20260130T101500
DTEND:20260130T121500
SUMMARY:26-0743 - An act relating to miscellaneous amendments to laws rel
 ating to motor vehicles\n\nSection 13\n\nBob Montminy\, Owner\, B&B Towi
 ng\n\nHerb Bartemy\, Vice President\, Vermont Towing Association\, Inc. 
 - Room 3
TZID:America/New_York
UID:20260128T190037Z-uidGen@richgoldman-357e73
END:VEVENT
BEGIN:VALARM
TRIGGER:-PT15M
ACTION:DISPLAY
DESCRIPTION:26-0743 - An act relating to miscellaneous amendments to laws
  relating to motor vehicles\n\nSection 13\n\nBob Montminy\, Owner\, B&B 
 Towing\n\nHerb Bartemy\, Vice President\, Vermont Towing Association\, I
 nc. - Room 3
END:VALARM
END:VCALENDAR
