BEGIN:VCALENDAR
CALSCALE:GREGORIAN
PRODID:-//Ben Fortuna//iCal4j 1.0//EN
VERSION:2.0
BEGIN:VEVENT
DTSTAMP:20260127T170014Z
DTSTART:20260130T100000
DTEND:20260130T120000
SUMMARY:26-0743 - An act relating to miscellaneous amendments to laws rel
 ating to motor vehicles\n\nSection 18\n\nJosh Hanford\, Director of Inte
 rgovernmental Affairs\, Vermont League of Cities and Towns - Invited - R
 oom 3
TZID:America/New_York
UID:20260127T170120Z-uidGen@richgoldman-357e73
END:VEVENT
BEGIN:VALARM
TRIGGER:-PT15M
ACTION:DISPLAY
DESCRIPTION:26-0743 - An act relating to miscellaneous amendments to laws
  relating to motor vehicles\n\nSection 18\n\nJosh Hanford\, Director of 
 Intergovernmental Affairs\, Vermont League of Cities and Towns - Invited
  - Room 3
END:VALARM
END:VCALENDAR
