BEGIN:VCALENDAR
CALSCALE:GREGORIAN
PRODID:-//Ben Fortuna//iCal4j 1.0//EN
VERSION:2.0
BEGIN:VEVENT
DTSTAMP:20260127T150031Z
DTSTART:20260130T100000
DTEND:20260130T120000
SUMMARY:S. 60 - An act relating to establishing the Farm Security Special
  Fund to provide grants for farm losses due to weather conditions\n\nWal
 k-through with Sen. Plunkett - Room 28
TZID:America/New_York
UID:20260127T150140Z-uidGen@richgoldman-357e73
END:VEVENT
BEGIN:VALARM
TRIGGER:-PT15M
ACTION:DISPLAY
DESCRIPTION:S. 60 - An act relating to establishing the Farm Security Spe
 cial Fund to provide grants for farm losses due to weather conditions\n\
 nWalk-through with Sen. Plunkett - Room 28
END:VALARM
END:VCALENDAR
