BEGIN:VCALENDAR
CALSCALE:GREGORIAN
PRODID:-//Ben Fortuna//iCal4j 1.0//EN
VERSION:2.0
BEGIN:VEVENT
DTSTAMP:20260125T060514Z
DTSTART:20260130T093100
DTEND:20260130T113100
SUMMARY:Capital Budget Adjustment\n\nSections 2 and 3 - Buildings and Gen
 eral Services and Correctional Facilities\n\nKristin Calver\, Deputy Com
 missioner\, Department of Corrections\n\nTravis Denton\, Director of Fac
 ilities\, Department of Corrections\n\nJoe Aja\, Director Design & Const
 ruction\, Department of Buildings and General Services - Room 34
TZID:America/New_York
UID:20260125T062002Z-uidGen@richgoldman-357e73
END:VEVENT
BEGIN:VALARM
TRIGGER:-PT15M
ACTION:DISPLAY
DESCRIPTION:Capital Budget Adjustment\n\nSections 2 and 3 - Buildings and
  General Services and Correctional Facilities\n\nKristin Calver\, Deputy
  Commissioner\, Department of Corrections\n\nTravis Denton\, Director of
  Facilities\, Department of Corrections\n\nJoe Aja\, Director Design & C
 onstruction\, Department of Buildings and General Services - Room 34
END:VALARM
END:VCALENDAR
