BEGIN:VCALENDAR
CALSCALE:GREGORIAN
PRODID:-//Ben Fortuna//iCal4j 1.0//EN
VERSION:2.0
BEGIN:VEVENT
DTSTAMP:20260125T060514Z
DTSTART:20260130T093100
DTEND:20260130T113100
SUMMARY:H. 660 - An act relating to fiscal year 2027 Opioid Abatement Spe
 cial Fund appropriations\n\nWitnesses TBD\, Department of Health - Invit
 ed - Room 46
TZID:America/New_York
UID:20260125T062009Z-uidGen@richgoldman-357e73
END:VEVENT
BEGIN:VALARM
TRIGGER:-PT15M
ACTION:DISPLAY
DESCRIPTION:H. 660 - An act relating to fiscal year 2027 Opioid Abatement
  Special Fund appropriations\n\nWitnesses TBD\, Department of Health - I
 nvited - Room 46
END:VALARM
END:VCALENDAR
