BEGIN:VCALENDAR
CALSCALE:GREGORIAN
PRODID:-//Ben Fortuna//iCal4j 1.0//EN
VERSION:2.0
BEGIN:VEVENT
DTSTAMP:20260125T060514Z
DTSTART:20260130T093100
DTEND:20260130T113100
SUMMARY:H. 548 - An act relating to adding a mediator position to the off
 ice of the Vermont Labor Relations Board\n\nCommittee Discussion and Pot
 ential Vote - Room 31
TZID:America/New_York
UID:20260125T062005Z-uidGen@richgoldman-357e73
END:VEVENT
BEGIN:VALARM
TRIGGER:-PT15M
ACTION:DISPLAY
DESCRIPTION:H. 548 - An act relating to adding a mediator position to the
  office of the Vermont Labor Relations Board\n\nCommittee Discussion and
  Potential Vote - Room 31
END:VALARM
END:VCALENDAR
