BEGIN:VCALENDAR
CALSCALE:GREGORIAN
PRODID:-//Ben Fortuna//iCal4j 1.0//EN
VERSION:2.0
BEGIN:VEVENT
DTSTAMP:20260125T060514Z
DTSTART:20260130T093000
DTEND:20260130T113000
SUMMARY:House Floor - Room 35
TZID:America/New_York
UID:20260125T061936Z-uidGen@richgoldman-357e73
END:VEVENT
BEGIN:VALARM
TRIGGER:-PT15M
ACTION:DISPLAY
DESCRIPTION:House Floor - Room 35
END:VALARM
END:VCALENDAR
