BEGIN:VCALENDAR
CALSCALE:GREGORIAN
PRODID:-//Ben Fortuna//iCal4j 1.0//EN
VERSION:2.0
BEGIN:VEVENT
DTSTAMP:20260128T150030Z
DTSTART:20260130T093100
DTEND:20260130T113100
SUMMARY:Compliance Update\n\nRebecca Sameroff\, Deputy Commissioner\, Dep
 artment of Taxes\n\nWill Baker\, General Counsel\, Department of Taxes -
  Room 45
TZID:America/New_York
UID:20260128T150149Z-uidGen@richgoldman-357e73
END:VEVENT
BEGIN:VALARM
TRIGGER:-PT15M
ACTION:DISPLAY
DESCRIPTION:Compliance Update\n\nRebecca Sameroff\, Deputy Commissioner\,
  Department of Taxes\n\nWill Baker\, General Counsel\, Department of Tax
 es - Room 45
END:VALARM
END:VCALENDAR
