BEGIN:VCALENDAR
CALSCALE:GREGORIAN
PRODID:-//Ben Fortuna//iCal4j 1.0//EN
VERSION:2.0
BEGIN:VEVENT
DTSTAMP:20260127T200015Z
DTSTART:20260130T093100
DTEND:20260130T113100
SUMMARY:Transportation Bill\n\nWalk-through\n\nDamien Leonard\, Legislati
 ve Counsel\, Office of Legislative Counsel - Room 43
TZID:America/New_York
UID:20260127T200127Z-uidGen@richgoldman-357e73
END:VEVENT
BEGIN:VALARM
TRIGGER:-PT15M
ACTION:DISPLAY
DESCRIPTION:Transportation Bill\n\nWalk-through\n\nDamien Leonard\, Legis
 lative Counsel\, Office of Legislative Counsel - Room 43
END:VALARM
END:VCALENDAR
