BEGIN:VCALENDAR
CALSCALE:GREGORIAN
PRODID:-//Ben Fortuna//iCal4j 1.0//EN
VERSION:2.0
BEGIN:VEVENT
DTSTAMP:20260128T170014Z
DTSTART:20260130T091500
DTEND:20260130T111500
SUMMARY:H. 759 - An act relating to a flat income tax\n\nRep. Joshua Dobr
 ovich\, Sponsor of the bill - Room 45
TZID:America/New_York
UID:20260128T170053Z-uidGen@richgoldman-357e73
END:VEVENT
BEGIN:VALARM
TRIGGER:-PT15M
ACTION:DISPLAY
DESCRIPTION:H. 759 - An act relating to a flat income tax\n\nRep. Joshua 
 Dobrovich\, Sponsor of the bill - Room 45
END:VALARM
END:VCALENDAR
