BEGIN:VCALENDAR
CALSCALE:GREGORIAN
PRODID:-//Ben Fortuna//iCal4j 1.0//EN
VERSION:2.0
BEGIN:VEVENT
DTSTAMP:20260128T150030Z
DTSTART:20260130T090000
DTEND:20260130T110000
SUMMARY:S. 64 - An act relating to amendments to the scope of practice fo
 r optometrists\n\nWalkthrough\n\nJennifer Carbee\, Deputy Chief Counsel\
 , Office of Legislative Counsel\n\nDr. Dean Barcelow\, O.D.\, President\
 , Vermont Optometric Association\n\nJen Colin\, Director\, Office of Pro
 fessional Regulation\, Secretary of State's Office\n\nEmily Carr\, Gener
 al Counsel\, Office of Professional Regulation - Room 17
TZID:America/New_York
UID:20260128T150146Z-uidGen@richgoldman-357e73
END:VEVENT
BEGIN:VALARM
TRIGGER:-PT15M
ACTION:DISPLAY
DESCRIPTION:S. 64 - An act relating to amendments to the scope of practic
 e for optometrists\n\nWalkthrough\n\nJennifer Carbee\, Deputy Chief Coun
 sel\, Office of Legislative Counsel\n\nDr. Dean Barcelow\, O.D.\, Presid
 ent\, Vermont Optometric Association\n\nJen Colin\, Director\, Office of
  Professional Regulation\, Secretary of State's Office\n\nEmily Carr\, G
 eneral Counsel\, Office of Professional Regulation - Room 17
END:VALARM
END:VCALENDAR
