BEGIN:VCALENDAR
CALSCALE:GREGORIAN
PRODID:-//Ben Fortuna//iCal4j 1.0//EN
VERSION:2.0
BEGIN:VEVENT
DTSTAMP:20260126T220014Z
DTSTART:20260130T090000
DTEND:20260130T110000
SUMMARY:Traffic Court Update\n\nTeri Corsones\, State Court Administrator
 \, Vermont Judiciary\n\nJoanne Charbonneau\, Clerk of State Wide Courts\
 , Court Administrator's Office - Room 3
TZID:America/New_York
UID:20260126T220020Z-uidGen@richgoldman-357e73
END:VEVENT
BEGIN:VALARM
TRIGGER:-PT15M
ACTION:DISPLAY
DESCRIPTION:Traffic Court Update\n\nTeri Corsones\, State Court Administr
 ator\, Vermont Judiciary\n\nJoanne Charbonneau\, Clerk of State Wide Cou
 rts\, Court Administrator's Office - Room 3
END:VALARM
END:VCALENDAR
