BEGIN:VCALENDAR
CALSCALE:GREGORIAN
PRODID:-//Ben Fortuna//iCal4j 1.0//EN
VERSION:2.0
BEGIN:VEVENT
DTSTAMP:20260125T060514Z
DTSTART:20260130T090000
DTEND:20260130T110000
SUMMARY:Legislative Interns Report\n\nHearing the Legislative Interns' We
 ekly Report.\n\nCabot Sayles\, UVM Legislative Intern\n\nBailey Davis\, 
 Norwich Legislative Intern - Room 35
TZID:America/New_York
UID:20260125T061912Z-uidGen@richgoldman-357e73
END:VEVENT
BEGIN:VALARM
TRIGGER:-PT15M
ACTION:DISPLAY
DESCRIPTION:Legislative Interns Report\n\nHearing the Legislative Interns
 ' Weekly Report.\n\nCabot Sayles\, UVM Legislative Intern\n\nBailey Davi
 s\, Norwich Legislative Intern - Room 35
END:VALARM
END:VCALENDAR
