BEGIN:VCALENDAR
CALSCALE:GREGORIAN
PRODID:-//Ben Fortuna//iCal4j 1.0//EN
VERSION:2.0
BEGIN:VEVENT
DTSTAMP:20260125T060514Z
DTSTART:20260130T090000
DTEND:20260130T110000
SUMMARY:H. 711 - An act relating to a sales tax exemption for precious me
 tals purchased for investment\n\nRep. Gregory "Greg" Burtt\, Reporter\, 
 House Committee on Agriculture\, Food Resiliency\, and Forestry - Room 4
 5
TZID:America/New_York
UID:20260125T061916Z-uidGen@richgoldman-357e73
END:VEVENT
BEGIN:VALARM
TRIGGER:-PT15M
ACTION:DISPLAY
DESCRIPTION:H. 711 - An act relating to a sales tax exemption for preciou
 s metals purchased for investment\n\nRep. Gregory "Greg" Burtt\, Reporte
 r\, House Committee on Agriculture\, Food Resiliency\, and Forestry - Ro
 om 45
END:VALARM
END:VCALENDAR
