BEGIN:VCALENDAR
CALSCALE:GREGORIAN
PRODID:-//Ben Fortuna//iCal4j 1.0//EN
VERSION:2.0
BEGIN:VEVENT
DTSTAMP:20260125T060514Z
DTSTART:20260130T090000
DTEND:20260130T110000
SUMMARY:Vermont Housing and Conservation Board\n\nPollaidh Major\, Direct
 or of Policy and Special Projects\, Vermont Housing & Conservation Board
  - Room 28
TZID:America/New_York
UID:20260125T061918Z-uidGen@richgoldman-357e73
END:VEVENT
BEGIN:VALARM
TRIGGER:-PT15M
ACTION:DISPLAY
DESCRIPTION:Vermont Housing and Conservation Board\n\nPollaidh Major\, Di
 rector of Policy and Special Projects\, Vermont Housing & Conservation B
 oard - Room 28
END:VALARM
END:VCALENDAR
