BEGIN:VCALENDAR
CALSCALE:GREGORIAN
PRODID:-//Ben Fortuna//iCal4j 1.0//EN
VERSION:2.0
BEGIN:VEVENT
DTSTAMP:20260125T060514Z
DTSTART:20260129T151500
DTEND:20260129T171500
SUMMARY:S. 296 - An act relating to development agreements for tax increm
 ent financing\n\nWalk-through\n\nJon Gray\, Legislative Counsel\, Office
  of Legislative Counsel\n\n" - Room 6
TZID:America/New_York
UID:20260125T061834Z-uidGen@richgoldman-357e73
END:VEVENT
BEGIN:VALARM
TRIGGER:-PT15M
ACTION:DISPLAY
DESCRIPTION:S. 296 - An act relating to development agreements for tax in
 crement financing\n\nWalk-through\n\nJon Gray\, Legislative Counsel\, Of
 fice of Legislative Counsel\n\n" - Room 6
END:VALARM
END:VCALENDAR
