BEGIN:VCALENDAR
CALSCALE:GREGORIAN
PRODID:-//Ben Fortuna//iCal4j 1.0//EN
VERSION:2.0
BEGIN:VEVENT
DTSTAMP:20260128T180015Z
DTSTART:20260129T151500
DTEND:20260129T171500
SUMMARY:S. 220 - An act relating to addressing education spending in fisc
 al years 2028 and 2029\n\nPossible vote - Room 6
TZID:America/New_York
UID:20260128T180050Z-uidGen@richgoldman-357e73
END:VEVENT
BEGIN:VALARM
TRIGGER:-PT15M
ACTION:DISPLAY
DESCRIPTION:S. 220 - An act relating to addressing education spending in 
 fiscal years 2028 and 2029\n\nPossible vote - Room 6
END:VALARM
END:VCALENDAR
