BEGIN:VCALENDAR
CALSCALE:GREGORIAN
PRODID:-//Ben Fortuna//iCal4j 1.0//EN
VERSION:2.0
BEGIN:VEVENT
DTSTAMP:20260125T060514Z
DTSTART:20260129T150000
DTEND:20260129T170000
SUMMARY:H. 686 - An act relating to expanding identification of certain l
 obbying advertisements\n\nIntroduction and walk-through\n\nRep. Laura Si
 bilia\, Sponsor\, Windham-2\n\nTim Devlin\, Legislative Counsel\, Office
  of Legislative Counsel\n\n" - Room M106
TZID:America/New_York
UID:20260125T061828Z-uidGen@richgoldman-357e73
END:VEVENT
BEGIN:VALARM
TRIGGER:-PT15M
ACTION:DISPLAY
DESCRIPTION:H. 686 - An act relating to expanding identification of certa
 in lobbying advertisements\n\nIntroduction and walk-through\n\nRep. Laur
 a Sibilia\, Sponsor\, Windham-2\n\nTim Devlin\, Legislative Counsel\, Of
 fice of Legislative Counsel\n\n" - Room M106
END:VALARM
END:VCALENDAR
