BEGIN:VCALENDAR
CALSCALE:GREGORIAN
PRODID:-//Ben Fortuna//iCal4j 1.0//EN
VERSION:2.0
BEGIN:VEVENT
DTSTAMP:20260127T150030Z
DTSTART:20260129T150000
DTEND:20260129T170000
SUMMARY:Act 119 Report\n\nJaclyn Holden\, Director of Performance and Imp
 rovement\, Agency of Human Services\n\nTed Fisher\, Principal Assistant 
 and Communications Director\, Agency of Human Services - Room 4
TZID:America/New_York
UID:20260127T150134Z-uidGen@richgoldman-357e73
END:VEVENT
BEGIN:VALARM
TRIGGER:-PT15M
ACTION:DISPLAY
DESCRIPTION:Act 119 Report\n\nJaclyn Holden\, Director of Performance and
  Improvement\, Agency of Human Services\n\nTed Fisher\, Principal Assist
 ant and Communications Director\, Agency of Human Services - Room 4
END:VALARM
END:VCALENDAR
