BEGIN:VCALENDAR
CALSCALE:GREGORIAN
PRODID:-//Ben Fortuna//iCal4j 1.0//EN
VERSION:2.0
BEGIN:VEVENT
DTSTAMP:20260128T160014Z
DTSTART:20260129T150000
DTEND:20260129T170000
SUMMARY:S. 313 - An act relating to transforming Vermont’s career technic
 al education system\n\nIntroduction and Walk-through\n\nSen. Kesha Ram H
 insdale\, Sponsor\n\nBeth St. James\, Legislative Counsel\, Office of Le
 gislative Counsel - Room 28
TZID:America/New_York
UID:20260128T160116Z-uidGen@richgoldman-357e73
END:VEVENT
BEGIN:VALARM
TRIGGER:-PT15M
ACTION:DISPLAY
DESCRIPTION:S. 313 - An act relating to transforming Vermont’s career tec
 hnical education system\n\nIntroduction and Walk-through\n\nSen. Kesha R
 am Hinsdale\, Sponsor\n\nBeth St. James\, Legislative Counsel\, Office o
 f Legislative Counsel - Room 28
END:VALARM
END:VCALENDAR
