BEGIN:VCALENDAR
CALSCALE:GREGORIAN
PRODID:-//Ben Fortuna//iCal4j 1.0//EN
VERSION:2.0
BEGIN:VEVENT
DTSTAMP:20260127T200014Z
DTSTART:20260129T143000
DTEND:20260129T163000
SUMMARY:H. 723 - An act relating to posting of land\n\nIntroduction and W
 alk-through\n\nRep. Zon Eastes\, Bill Sponsor - Invited\n\nBradley Showm
 an\, Legislative Counsel\, Office of Legislative Counsel - Room EA
TZID:America/New_York
UID:20260127T200120Z-uidGen@richgoldman-357e73
END:VEVENT
BEGIN:VALARM
TRIGGER:-PT15M
ACTION:DISPLAY
DESCRIPTION:H. 723 - An act relating to posting of land\n\nIntroduction a
 nd Walk-through\n\nRep. Zon Eastes\, Bill Sponsor - Invited\n\nBradley S
 howman\, Legislative Counsel\, Office of Legislative Counsel - Room EA
END:VALARM
END:VCALENDAR
