BEGIN:VCALENDAR
CALSCALE:GREGORIAN
PRODID:-//Ben Fortuna//iCal4j 1.0//EN
VERSION:2.0
BEGIN:VEVENT
DTSTAMP:20260128T160014Z
DTSTART:20260129T143000
DTEND:20260129T163000
SUMMARY:H. 510 - An act relating to repealing the charter of the Town of 
 Danville\n\nCommittee discussion and possible vote - Room M106
TZID:America/New_York
UID:20260128T160112Z-uidGen@richgoldman-357e73
END:VEVENT
BEGIN:VALARM
TRIGGER:-PT15M
ACTION:DISPLAY
DESCRIPTION:H. 510 - An act relating to repealing the charter of the Town
  of Danville\n\nCommittee discussion and possible vote - Room M106
END:VALARM
END:VCALENDAR
