BEGIN:VCALENDAR
CALSCALE:GREGORIAN
PRODID:-//Ben Fortuna//iCal4j 1.0//EN
VERSION:2.0
BEGIN:VEVENT
DTSTAMP:20260128T180015Z
DTSTART:20260129T143000
DTEND:20260129T163000
SUMMARY:S. 218 - An act relating to reducing chloride contamination of St
 ate waters\n\nIntroduction and walk-through\n\nSen. Anne Watson\, Sponso
 r\n\nMichael O'Grady\, Deputy Chief Counsel\, Office of Legislative Coun
 sel - Room 6
TZID:America/New_York
UID:20260128T180048Z-uidGen@richgoldman-357e73
END:VEVENT
BEGIN:VALARM
TRIGGER:-PT15M
ACTION:DISPLAY
DESCRIPTION:S. 218 - An act relating to reducing chloride contamination o
 f State waters\n\nIntroduction and walk-through\n\nSen. Anne Watson\, Sp
 onsor\n\nMichael O'Grady\, Deputy Chief Counsel\, Office of Legislative 
 Counsel - Room 6
END:VALARM
END:VCALENDAR
