BEGIN:VCALENDAR
CALSCALE:GREGORIAN
PRODID:-//Ben Fortuna//iCal4j 1.0//EN
VERSION:2.0
BEGIN:VEVENT
DTSTAMP:20260127T200014Z
DTSTART:20260129T141500
DTEND:20260129T161500
SUMMARY:H. 608 - An act relating to allowing purple paint markings as not
 ice for posting against hunting and fishing\n\nIntroduction and Walk-thr
 ough\n\nRep. Theresa Wood\, Bill Sponsor - Invited\n\nBradley Showman\, 
 Legislative Counsel\, Office of Legislative Counsel - Room EA
TZID:America/New_York
UID:20260127T200118Z-uidGen@richgoldman-357e73
END:VEVENT
BEGIN:VALARM
TRIGGER:-PT15M
ACTION:DISPLAY
DESCRIPTION:H. 608 - An act relating to allowing purple paint markings as
  notice for posting against hunting and fishing\n\nIntroduction and Walk
 -through\n\nRep. Theresa Wood\, Bill Sponsor - Invited\n\nBradley Showma
 n\, Legislative Counsel\, Office of Legislative Counsel - Room EA
END:VALARM
END:VCALENDAR
