BEGIN:VCALENDAR
CALSCALE:GREGORIAN
PRODID:-//Ben Fortuna//iCal4j 1.0//EN
VERSION:2.0
BEGIN:VEVENT
DTSTAMP:20260126T220014Z
DTSTART:20260129T143000
DTEND:20260129T163000
SUMMARY:Adjourn\n\n" - Room 28
TZID:America/New_York
UID:20260126T220018Z-uidGen@richgoldman-357e73
END:VEVENT
BEGIN:VALARM
TRIGGER:-PT15M
ACTION:DISPLAY
DESCRIPTION:Adjourn\n\n" - Room 28
END:VALARM
END:VCALENDAR
