BEGIN:VCALENDAR
CALSCALE:GREGORIAN
PRODID:-//Ben Fortuna//iCal4j 1.0//EN
VERSION:2.0
BEGIN:VEVENT
DTSTAMP:20260128T160014Z
DTSTART:20260129T143000
DTEND:20260129T163000
SUMMARY:School District Mapping\n\nAct 73 of 2025 and mapping\n\nJohn Ada
 ms\, Director\, Center for Geographic Information\, Agency of Digital Se
 rvices - Room 28
TZID:America/New_York
UID:20260128T160114Z-uidGen@richgoldman-357e73
END:VEVENT
BEGIN:VALARM
TRIGGER:-PT15M
ACTION:DISPLAY
DESCRIPTION:School District Mapping\n\nAct 73 of 2025 and mapping\n\nJohn
  Adams\, Director\, Center for Geographic Information\, Agency of Digita
 l Services - Room 28
END:VALARM
END:VCALENDAR
