BEGIN:VCALENDAR
CALSCALE:GREGORIAN
PRODID:-//Ben Fortuna//iCal4j 1.0//EN
VERSION:2.0
BEGIN:VEVENT
DTSTAMP:20260126T230013Z
DTSTART:20260129T140000
DTEND:20260129T160000
SUMMARY:FY27 Budget\n\nDepartment of Buildings and General Services\n\nWa
 nda Minoli\, Commissioner\, Department of Buildings and General Services
 \n\nEmily Kisicki\, Deputy Commissioner\, Department of Buildings and Ge
 neral Services\n\n" - Room 5
TZID:America/New_York
UID:20260126T230031Z-uidGen@richgoldman-357e73
END:VEVENT
BEGIN:VALARM
TRIGGER:-PT15M
ACTION:DISPLAY
DESCRIPTION:FY27 Budget\n\nDepartment of Buildings and General Services\n
 \nWanda Minoli\, Commissioner\, Department of Buildings and General Serv
 ices\n\nEmily Kisicki\, Deputy Commissioner\, Department of Buildings an
 d General Services\n\n" - Room 5
END:VALARM
END:VCALENDAR
