BEGIN:VCALENDAR
CALSCALE:GREGORIAN
PRODID:-//Ben Fortuna//iCal4j 1.0//EN
VERSION:2.0
BEGIN:VEVENT
DTSTAMP:20260127T160015Z
DTSTART:20260129T140000
DTEND:20260129T160000
SUMMARY:Human Rights Commission\n\nRecommendations from the Human Rights 
 Commission 2025 Civil Rights Summit\n\nBig Hartman\, Executive Director 
 & General Counsel\, Vermont Human Rights Commission - Room M103
TZID:America/New_York
UID:20260127T160112Z-uidGen@richgoldman-357e73
END:VEVENT
BEGIN:VALARM
TRIGGER:-PT15M
ACTION:DISPLAY
DESCRIPTION:Human Rights Commission\n\nRecommendations from the Human Rig
 hts Commission 2025 Civil Rights Summit\n\nBig Hartman\, Executive Direc
 tor & General Counsel\, Vermont Human Rights Commission - Room M103
END:VALARM
END:VCALENDAR
