BEGIN:VCALENDAR
CALSCALE:GREGORIAN
PRODID:-//Ben Fortuna//iCal4j 1.0//EN
VERSION:2.0
BEGIN:VEVENT
DTSTAMP:20260125T060514Z
DTSTART:20260129T140000
DTEND:20260129T160000
SUMMARY:H. 762 - An act relating to the County and Regional Governance St
 udy Committee\n\nIntroduction and walk-through\n\nRep. Matthew Birong\, 
 Sponsor\, House Committee on Government Operations and Military Affairs\
 n\nTim Devlin\, Legislative Counsel\, Office of Legislative Counsel - Ro
 om M106
TZID:America/New_York
UID:20260125T061805Z-uidGen@richgoldman-357e73
END:VEVENT
BEGIN:VALARM
TRIGGER:-PT15M
ACTION:DISPLAY
DESCRIPTION:H. 762 - An act relating to the County and Regional Governanc
 e Study Committee\n\nIntroduction and walk-through\n\nRep. Matthew Biron
 g\, Sponsor\, House Committee on Government Operations and Military Affa
 irs\n\nTim Devlin\, Legislative Counsel\, Office of Legislative Counsel 
 - Room M106
END:VALARM
END:VCALENDAR
