BEGIN:VCALENDAR
CALSCALE:GREGORIAN
PRODID:-//Ben Fortuna//iCal4j 1.0//EN
VERSION:2.0
BEGIN:VEVENT
DTSTAMP:20260127T150030Z
DTSTART:20260129T140000
DTEND:20260129T160000
SUMMARY:S. 255 - An act relating to establishing a pilot Law Enforcement 
 Governance Council in Windham County\n\nWalk-through\n\nSen. Wendy Harri
 son\, Sponsor\n\nTim Devlin\, Legislative Counsel\, Office of Legislativ
 e Counsel\n\nJeanette White\, Former Senator\, Windham County\n\nSheriff
  Mark Anderson\, Windham County Sheriff\, Vermont Sheriffs' Association 
 - Room 4
TZID:America/New_York
UID:20260127T150127Z-uidGen@richgoldman-357e73
END:VEVENT
BEGIN:VALARM
TRIGGER:-PT15M
ACTION:DISPLAY
DESCRIPTION:S. 255 - An act relating to establishing a pilot Law Enforcem
 ent Governance Council in Windham County\n\nWalk-through\n\nSen. Wendy H
 arrison\, Sponsor\n\nTim Devlin\, Legislative Counsel\, Office of Legisl
 ative Counsel\n\nJeanette White\, Former Senator\, Windham County\n\nShe
 riff Mark Anderson\, Windham County Sheriff\, Vermont Sheriffs' Associat
 ion - Room 4
END:VALARM
END:VCALENDAR
