BEGIN:VCALENDAR
CALSCALE:GREGORIAN
PRODID:-//Ben Fortuna//iCal4j 1.0//EN
VERSION:2.0
BEGIN:VEVENT
DTSTAMP:20260126T220014Z
DTSTART:20260129T140000
DTEND:20260129T160000
SUMMARY:S. 161 - An act relating to the Governor’s list of scholarship gr
 anting organizations\n\nEmily Simmons\, General Counsel\, Agency of Educ
 ation\n\nKirby Keeton\, Legislative Counsel\, Office of Legislative Coun
 sel - Room 28
TZID:America/New_York
UID:20260126T220017Z-uidGen@richgoldman-357e73
END:VEVENT
BEGIN:VALARM
TRIGGER:-PT15M
ACTION:DISPLAY
DESCRIPTION:S. 161 - An act relating to the Governor’s list of scholarshi
 p granting organizations\n\nEmily Simmons\, General Counsel\, Agency of 
 Education\n\nKirby Keeton\, Legislative Counsel\, Office of Legislative 
 Counsel - Room 28
END:VALARM
END:VCALENDAR
