BEGIN:VCALENDAR
CALSCALE:GREGORIAN
PRODID:-//Ben Fortuna//iCal4j 1.0//EN
VERSION:2.0
BEGIN:VEVENT
DTSTAMP:20260127T230013Z
DTSTART:20260129T135000
DTEND:20260129T155000
SUMMARY:FY27 Budget\n\nDepartment of Taxes\n\nAndrew Stein\, Chief Operat
 ing Officer\, Department of Taxes\n\nHolly Ferrant\, Chief Financial Off
 ice\, Financial Services Division\, Agency of Administration\n\nJason Pi
 nard\, Deputy Chief Financial Officer\, Financial Services Division\, Ag
 ency of Administration - Room 9
TZID:America/New_York
UID:20260127T230108Z-uidGen@richgoldman-357e73
END:VEVENT
BEGIN:VALARM
TRIGGER:-PT15M
ACTION:DISPLAY
DESCRIPTION:FY27 Budget\n\nDepartment of Taxes\n\nAndrew Stein\, Chief Op
 erating Officer\, Department of Taxes\n\nHolly Ferrant\, Chief Financial
  Office\, Financial Services Division\, Agency of Administration\n\nJaso
 n Pinard\, Deputy Chief Financial Officer\, Financial Services Division\
 , Agency of Administration - Room 9
END:VALARM
END:VCALENDAR
