BEGIN:VCALENDAR
CALSCALE:GREGORIAN
PRODID:-//Ben Fortuna//iCal4j 1.0//EN
VERSION:2.0
BEGIN:VEVENT
DTSTAMP:20260126T230013Z
DTSTART:20260129T133000
DTEND:20260129T153000
SUMMARY:FY27 Budget\n\nDepartment of Libraries\n\nCatherine Delneo\, Comm
 issioner and State Librarian\, Vermont Department of Libraries - Room 5
TZID:America/New_York
UID:20260126T230030Z-uidGen@richgoldman-357e73
END:VEVENT
BEGIN:VALARM
TRIGGER:-PT15M
ACTION:DISPLAY
DESCRIPTION:FY27 Budget\n\nDepartment of Libraries\n\nCatherine Delneo\, 
 Commissioner and State Librarian\, Vermont Department of Libraries - Roo
 m 5
END:VALARM
END:VCALENDAR
