BEGIN:VCALENDAR
CALSCALE:GREGORIAN
PRODID:-//Ben Fortuna//iCal4j 1.0//EN
VERSION:2.0
BEGIN:VEVENT
DTSTAMP:20260125T060514Z
DTSTART:20260129T134500
DTEND:20260129T154500
SUMMARY:Education Savings Accounts\n\nJoan Wade\, Executive Director\, As
 sociation of Education Service Agency - Zoom - Room 6
TZID:America/New_York
UID:20260125T061758Z-uidGen@richgoldman-357e73
END:VEVENT
BEGIN:VALARM
TRIGGER:-PT15M
ACTION:DISPLAY
DESCRIPTION:Education Savings Accounts\n\nJoan Wade\, Executive Director\
 , Association of Education Service Agency - Zoom - Room 6
END:VALARM
END:VCALENDAR
