BEGIN:VCALENDAR
CALSCALE:GREGORIAN
PRODID:-//Ben Fortuna//iCal4j 1.0//EN
VERSION:2.0
BEGIN:VEVENT
DTSTAMP:20260126T150030Z
DTSTART:20260129T133000
DTEND:20260129T153000
SUMMARY:Mental Health Advocacy Day\n\nWitnesses TBA\n\nIan Trombulak\, Sc
 hool Counseling Director\, School Counselor\, Lamoille Union High School
 \n\nKristin Chandler\, J.D.\, Coordinator\, Team Two Vermont - Room M103
 
TZID:America/New_York
UID:20260126T150050Z-uidGen@richgoldman-357e73
END:VEVENT
BEGIN:VALARM
TRIGGER:-PT15M
ACTION:DISPLAY
DESCRIPTION:Mental Health Advocacy Day\n\nWitnesses TBA\n\nIan Trombulak\
 , School Counseling Director\, School Counselor\, Lamoille Union High Sc
 hool\n\nKristin Chandler\, J.D.\, Coordinator\, Team Two Vermont - Room 
 M103
END:VALARM
END:VCALENDAR
