BEGIN:VCALENDAR
CALSCALE:GREGORIAN
PRODID:-//Ben Fortuna//iCal4j 1.0//EN
VERSION:2.0
BEGIN:VEVENT
DTSTAMP:20260127T170014Z
DTSTART:20260129T133000
DTEND:20260129T153000
SUMMARY:Mental Health Advocacy Day\n\nIan Trombulak\, School Counseling D
 irector\, School Counselor\, Lamoille Union High School\n\nKristin Chand
 ler\, J.D.\, Coordinator\, Team Two Vermont\n\nAngela Filion\, Principal
 \, Allen Brook Elementary School - Zoom\n\nJason Gingold\, Principal\, M
 ontpelier Middle and High School - Zoom - Room M103
TZID:America/New_York
UID:20260127T170113Z-uidGen@richgoldman-357e73
END:VEVENT
BEGIN:VALARM
TRIGGER:-PT15M
ACTION:DISPLAY
DESCRIPTION:Mental Health Advocacy Day\n\nIan Trombulak\, School Counseli
 ng Director\, School Counselor\, Lamoille Union High School\n\nKristin C
 handler\, J.D.\, Coordinator\, Team Two Vermont\n\nAngela Filion\, Princ
 ipal\, Allen Brook Elementary School - Zoom\n\nJason Gingold\, Principal
 \, Montpelier Middle and High School - Zoom - Room M103
END:VALARM
END:VCALENDAR
