BEGIN:VCALENDAR
CALSCALE:GREGORIAN
PRODID:-//Ben Fortuna//iCal4j 1.0//EN
VERSION:2.0
BEGIN:VEVENT
DTSTAMP:20260125T060514Z
DTSTART:20260129T133000
DTEND:20260129T153000
SUMMARY:Communications Union Districts (CUDs) Status\n\nEllie de Villiers
 \, Vermont Communications Union Districts Association\n\nChrista Shute\,
  Executive Director\, NEK Broadband - Room 6
TZID:America/New_York
UID:20260125T061750Z-uidGen@richgoldman-357e73
END:VEVENT
BEGIN:VALARM
TRIGGER:-PT15M
ACTION:DISPLAY
DESCRIPTION:Communications Union Districts (CUDs) Status\n\nEllie de Vill
 iers\, Vermont Communications Union Districts Association\n\nChrista Shu
 te\, Executive Director\, NEK Broadband - Room 6
END:VALARM
END:VCALENDAR
