BEGIN:VCALENDAR
CALSCALE:GREGORIAN
PRODID:-//Ben Fortuna//iCal4j 1.0//EN
VERSION:2.0
BEGIN:VEVENT
DTSTAMP:20260127T160015Z
DTSTART:20260129T131500
DTEND:20260129T151500
SUMMARY:H. 778 - An act relating to dam safety\n\nWalk-through\n\nMichael
  O'Grady\, Deputy Chief Counsel\, Office of Legislative Counsel - Room E
 A
TZID:America/New_York
UID:20260127T160109Z-uidGen@richgoldman-357e73
END:VEVENT
BEGIN:VALARM
TRIGGER:-PT15M
ACTION:DISPLAY
DESCRIPTION:H. 778 - An act relating to dam safety\n\nWalk-through\n\nMic
 hael O'Grady\, Deputy Chief Counsel\, Office of Legislative Counsel - Ro
 om EA
END:VALARM
END:VCALENDAR
