BEGIN:VCALENDAR
CALSCALE:GREGORIAN
PRODID:-//Ben Fortuna//iCal4j 1.0//EN
VERSION:2.0
BEGIN:VEVENT
DTSTAMP:20260127T170014Z
DTSTART:20260129T131500
DTEND:20260129T151500
SUMMARY:H. 778 - An act relating to dam safety\n\nIntroduction & Walk-thr
 ough\n\nMichael O'Grady\, Deputy Chief Counsel\, Office of Legislative C
 ounsel - Room EA
TZID:America/New_York
UID:20260127T170110Z-uidGen@richgoldman-357e73
END:VEVENT
BEGIN:VALARM
TRIGGER:-PT15M
ACTION:DISPLAY
DESCRIPTION:H. 778 - An act relating to dam safety\n\nIntroduction & Walk
 -through\n\nMichael O'Grady\, Deputy Chief Counsel\, Office of Legislati
 ve Counsel - Room EA
END:VALARM
END:VCALENDAR
