BEGIN:VCALENDAR
CALSCALE:GREGORIAN
PRODID:-//Ben Fortuna//iCal4j 1.0//EN
VERSION:2.0
BEGIN:VEVENT
DTSTAMP:20260127T190013Z
DTSTART:20260129T130000
DTEND:20260129T150000
SUMMARY:H. 679 - An act relating to emergency management in flood-prone m
 unicipalities\n\nWitness testimony\n\nTheresa Perron\, Town Administrato
 r\, Glover\n\nMeghan Wayland\, Lead Organizer\, Northeast Kingdom Organi
 zing\n\nAnne Brody\, State Government Relations Director\, American Floo
 d Coalition Action - Room M106
TZID:America/New_York
UID:20260127T190042Z-uidGen@richgoldman-357e73
END:VEVENT
BEGIN:VALARM
TRIGGER:-PT15M
ACTION:DISPLAY
DESCRIPTION:H. 679 - An act relating to emergency management in flood-pro
 ne municipalities\n\nWitness testimony\n\nTheresa Perron\, Town Administ
 rator\, Glover\n\nMeghan Wayland\, Lead Organizer\, Northeast Kingdom Or
 ganizing\n\nAnne Brody\, State Government Relations Director\, American 
 Flood Coalition Action - Room M106
END:VALARM
END:VCALENDAR
