BEGIN:VCALENDAR
CALSCALE:GREGORIAN
PRODID:-//Ben Fortuna//iCal4j 1.0//EN
VERSION:2.0
BEGIN:VEVENT
DTSTAMP:20260125T060514Z
DTSTART:20260129T130000
DTEND:20260129T150000
SUMMARY:FY27 Budget\n\nAgency of Digital Services\n\nDenise Reilly-Hughes
 \, Secretary\, Agency of Digital Services\n\nKate Slocum\, Chief Financi
 al Officer\, Agency of Digital Services - Room 9
TZID:America/New_York
UID:20260125T061658Z-uidGen@richgoldman-357e73
END:VEVENT
BEGIN:VALARM
TRIGGER:-PT15M
ACTION:DISPLAY
DESCRIPTION:FY27 Budget\n\nAgency of Digital Services\n\nDenise Reilly-Hu
 ghes\, Secretary\, Agency of Digital Services\n\nKate Slocum\, Chief Fin
 ancial Officer\, Agency of Digital Services - Room 9
END:VALARM
END:VCALENDAR
