BEGIN:VCALENDAR
CALSCALE:GREGORIAN
PRODID:-//Ben Fortuna//iCal4j 1.0//EN
VERSION:2.0
BEGIN:VEVENT
DTSTAMP:20260125T060514Z
DTSTART:20260129T114500
DTEND:20260129T134500
SUMMARY:Economic Development and Housing\n\nPossible vote on 26-0748 and 
 Economic Development committee bills. - Room 27
TZID:America/New_York
UID:20260125T061621Z-uidGen@richgoldman-357e73
END:VEVENT
BEGIN:VALARM
TRIGGER:-PT15M
ACTION:DISPLAY
DESCRIPTION:Economic Development and Housing\n\nPossible vote on 26-0748 
 and Economic Development committee bills. - Room 27
END:VALARM
END:VCALENDAR
