BEGIN:VCALENDAR
CALSCALE:GREGORIAN
PRODID:-//Ben Fortuna//iCal4j 1.0//EN
VERSION:2.0
BEGIN:VEVENT
DTSTAMP:20260126T200014Z
DTSTART:20260129T114500
DTEND:20260129T134500
SUMMARY:26-0748 - An act relating to housing\n\nPossible Vote - Room 27
TZID:America/New_York
UID:20260126T200100Z-uidGen@richgoldman-357e73
END:VEVENT
BEGIN:VALARM
TRIGGER:-PT15M
ACTION:DISPLAY
DESCRIPTION:26-0748 - An act relating to housing\n\nPossible Vote - Room 
 27
END:VALARM
END:VCALENDAR
