BEGIN:VCALENDAR
CALSCALE:GREGORIAN
PRODID:-//Ben Fortuna//iCal4j 1.0//EN
VERSION:2.0
BEGIN:VEVENT
DTSTAMP:20260125T060514Z
DTSTART:20260129T111500
DTEND:20260129T131500
SUMMARY:Field Trip\n\nVermont Superintendents Association Lunch In - Room
  M103
TZID:America/New_York
UID:20260125T061607Z-uidGen@richgoldman-357e73
END:VEVENT
BEGIN:VALARM
TRIGGER:-PT15M
ACTION:DISPLAY
DESCRIPTION:Field Trip\n\nVermont Superintendents Association Lunch In - 
 Room M103
END:VALARM
END:VCALENDAR
