BEGIN:VCALENDAR
CALSCALE:GREGORIAN
PRODID:-//Ben Fortuna//iCal4j 1.0//EN
VERSION:2.0
BEGIN:VEVENT
DTSTAMP:20260125T060514Z
DTSTART:20260129T111500
DTEND:20260129T131500
SUMMARY:S. 219 - An act relating to an energy navigator program report\n\
 nSteve Maier\, Chair of Climate Economy Action Center\, Vice Chair Middl
 ebury Energy Committee\n\nJohanna Miller\, Energy & Climate Program Dire
 ctor\, Vermont Natural Resources Council\n\nJean Terwillinger\, Clean En
 ergy Action Committee\n\nRowland Davis\, Shelburne Energy Committee\n\n"
  - Room 8
TZID:America/New_York
UID:20260125T061614Z-uidGen@richgoldman-357e73
END:VEVENT
BEGIN:VALARM
TRIGGER:-PT15M
ACTION:DISPLAY
DESCRIPTION:S. 219 - An act relating to an energy navigator program repor
 t\n\nSteve Maier\, Chair of Climate Economy Action Center\, Vice Chair M
 iddlebury Energy Committee\n\nJohanna Miller\, Energy & Climate Program 
 Director\, Vermont Natural Resources Council\n\nJean Terwillinger\, Clea
 n Energy Action Committee\n\nRowland Davis\, Shelburne Energy Committee\
 n\n" - Room 8
END:VALARM
END:VCALENDAR
