BEGIN:VCALENDAR
CALSCALE:GREGORIAN
PRODID:-//Ben Fortuna//iCal4j 1.0//EN
VERSION:2.0
BEGIN:VEVENT
DTSTAMP:20260126T190012Z
DTSTART:20260129T111500
DTEND:20260129T131500
SUMMARY:FY27 Budget\n\nCannabis Control Board\n\nJames Pepper\, Chair\, C
 annabis Control Board\n\nOlga Fitch\, Executive Director\, Cannabis Cont
 rol Board - Room 9
TZID:America/New_York
UID:20260126T190031Z-uidGen@richgoldman-357e73
END:VEVENT
BEGIN:VALARM
TRIGGER:-PT15M
ACTION:DISPLAY
DESCRIPTION:FY27 Budget\n\nCannabis Control Board\n\nJames Pepper\, Chair
 \, Cannabis Control Board\n\nOlga Fitch\, Executive Director\, Cannabis 
 Control Board - Room 9
END:VALARM
END:VCALENDAR
