BEGIN:VCALENDAR
CALSCALE:GREGORIAN
PRODID:-//Ben Fortuna//iCal4j 1.0//EN
VERSION:2.0
BEGIN:VEVENT
DTSTAMP:20260128T160014Z
DTSTART:20260129T110000
DTEND:20260129T130000
SUMMARY:H. 541 - An act relating to interference with voters and election
  officials\n\nFly-by\n\nRep. Ian Goodnow\, Sponsor\n\nTim Devlin\, Legis
 lative Counsel\, Office of Legislative Counsel - Room M106
TZID:America/New_York
UID:20260128T160105Z-uidGen@richgoldman-357e73
END:VEVENT
BEGIN:VALARM
TRIGGER:-PT15M
ACTION:DISPLAY
DESCRIPTION:H. 541 - An act relating to interference with voters and elec
 tion officials\n\nFly-by\n\nRep. Ian Goodnow\, Sponsor\n\nTim Devlin\, L
 egislative Counsel\, Office of Legislative Counsel - Room M106
END:VALARM
END:VCALENDAR
